BEGIN:VCALENDAR
VERSION:2.0
PRODID:-//FPDD - ECPv6.15.17.1//NONSGML v1.0//EN
CALSCALE:GREGORIAN
METHOD:PUBLISH
X-WR-CALNAME:FPDD
X-ORIGINAL-URL:https://www.forumprojetsdd.org
X-WR-CALDESC:Évènements pour FPDD
REFRESH-INTERVAL;VALUE=DURATION:PT1H
X-Robots-Tag:noindex
X-PUBLISHED-TTL:PT1H
BEGIN:VTIMEZONE
TZID:Europe/Paris
BEGIN:DAYLIGHT
TZOFFSETFROM:+0100
TZOFFSETTO:+0200
TZNAME:CEST
DTSTART:20250330T010000
END:DAYLIGHT
BEGIN:STANDARD
TZOFFSETFROM:+0200
TZOFFSETTO:+0100
TZNAME:CET
DTSTART:20251026T010000
END:STANDARD
BEGIN:DAYLIGHT
TZOFFSETFROM:+0100
TZOFFSETTO:+0200
TZNAME:CEST
DTSTART:20260329T010000
END:DAYLIGHT
BEGIN:STANDARD
TZOFFSETFROM:+0200
TZOFFSETTO:+0100
TZNAME:CET
DTSTART:20261025T010000
END:STANDARD
BEGIN:DAYLIGHT
TZOFFSETFROM:+0100
TZOFFSETTO:+0200
TZNAME:CEST
DTSTART:20270328T010000
END:DAYLIGHT
BEGIN:STANDARD
TZOFFSETFROM:+0200
TZOFFSETTO:+0100
TZNAME:CET
DTSTART:20271031T010000
END:STANDARD
END:VTIMEZONE
BEGIN:VEVENT
DTSTART;TZID=Europe/Paris:20260323T203000
DTEND;TZID=Europe/Paris:20260323T223000
DTSTAMP:20260421T214517
CREATED:20260126T211229Z
LAST-MODIFIED:20260316T103730Z
UID:15003-1774297800-1774305000@www.forumprojetsdd.org
SUMMARY:Grands Quelqu'uns suivi d'une ciné-rencontre
DESCRIPTION:[vc_row][vc_column width= »1/3″][vc_empty_space height= »32px »][/vc_column][vc_column width= »2/3″][vc_video css= » » link= »https://www.youtube.com/watch?v=HkZDPzlxEkc »][vc_row_inner][vc_column_inner width= »1/2″][/vc_column_inner][vc_column_inner width= »1/2″][vc_empty_space height= »32px »][/vc_column_inner][/vc_row_inner][/vc_column][/vc_row][vc_row][vc_column]Réservations >[vc_empty_space height= »32px »]Suivi d'une ciné-rencontre[/vc_column][/vc_row][vc_row][vc_column width= »1/2″][vc_column_text css= » »]Christel Pernet  \nPrésidente de l’association “Les Puits du Désert”\, Christel Pernet est engagée dans l’action humanitaire en Afrique depuis de nombreuses années. Elle a fondé l’association « Les Ailes du Désert » en 1998 conjuguant sa passion du pilotage et l’action humanitaire en Afrique. L’association “Les Puits du Désert” a suivi en 2002\, lorsqu’elle s’est posée dans le désert du Ténéré au Niger. La rencontre avec Mohamed Ixa a été déterminante.[/vc_column_text][/vc_column][vc_column width= »1/2″][vc_column_text css= » »]Armelle de Roton \nDirectrice de l’association “Les Puits du Désert”\, passionnée par les problématiques de développement et par le monde associatif\, Armelle de Roton est partenaire de l’association depuis près de 15 ans. Elle est devenue directrice des Puits du Désert début 2023 et suit quotidiennement les projets en lien avec l’équipe de l’ONG Tidène. Installée à Chatou\, elle s’occupe également de la communication et des relations avec les partenaires.[/vc_column_text][/vc_column][/vc_row][vc_row][vc_column width= »1/2″][vc_empty_space height= »32px »][/vc_column][vc_column width= »1/2″]En savoir plus sur l’association[/vc_column][/vc_row]
URL:https://www.forumprojetsdd.org/evenement/grands-quelqu-uns/
LOCATION:Cinéma Louis Jouvet\, 3 Place Maurice Berteaux\, Chatou\, 78400\, France
CATEGORIES:evenement
ATTACH;FMTTYPE=image/jpeg:https://www.forumprojetsdd.org/wp-content/uploads/2026/01/affiche-grans-quelqu-uns.webp
ORGANIZER;CN="Forum et Projets":MAILTO:contact@forumprojetsdd.org
END:VEVENT
END:VCALENDAR